Workbook

Sheet Best States to Work Index
A1: State | B1: Abbrev. | C1: Overall Index Score | D1: Overall Index Ranking | E1: Wage Dimension Score | F1: Worker Protection Dimension Score | G1: Right to Organize Dimension Score
A2: Alabama | B2: AL | C2: =(0.4*E2+0.35*F2+0.25*G2) -> 13.102777 | D2: =RANK(C2,$C$2:$C$53) -> 48 | E2: ='Wage Dimension'!C3 -> 7.7569421 | F2: ='Worker Protection Dimension'!C4 -> 21.428571 | G2: ='Right to Organize'!C5 -> 10
A3: Alaska | B3: AK | C3: =(0.4*E3+0.35*F3+0.25*G3) -> 47.289879 | D3: =RANK(C3,$C$2:$C$53) -> 23 | E3: ='Wage Dimension'!C4 -> 60.933031 | F3: ='Worker Protection Dimension'!C5 -> 29.761905 | G3: ='Right to Organize'!C6 -> 50
A4: Arizona | B4: AZ | C4: =(0.4*E4+0.35*F4+0.25*G4) -> 58.054165 | D4: =RANK(C4,$C$2:$C$53) -> 18 | E4: ='Wage Dimension'!C5 -> 72.218745 | F4: ='Worker Protection Dimension'!C6 -> 40.47619 | G4: ='Right to Organize'!C7 -> 60
A5: Arkansas | B5: AR | C5: =(0.4*E5+0.35*F5+0.25*G5) -> 24.653449 | D5: =RANK(C5,$C$2:$C$53) -> 42 | E5: ='Wage Dimension'!C6 -> 38.716955 | F5: ='Worker Protection Dimension'!C7 -> 19.047619 | G5: ='Right to Organize'!C8 -> 10
A6: California | B6: CA | C6: =(0.4*E6+0.35*F6+0.25*G6) -> 86.006251 | D6: =RANK(C6,$C$2:$C$53) -> 1 | E6: ='Wage Dimension'!C7 -> 77.515628 | F6: ='Worker Protection Dimension'!C8 -> 85.714286 | G6: ='Right to Organize'!C9 -> 100
A7: Colorado | B7: CO | C7: =(0.4*E7+0.35*F7+0.25*G7) -> 72.132692 | D7: =RANK(C7,$C$2:$C$53) -> 8 | E7: ='Wage Dimension'!C8 -> 70.95673 | F7: ='Worker Protection Dimension'!C9 -> 60.714286 | G7: ='Right to Organize'!C10 -> 90
A8: Connecticut | B8: CT | C8: =(0.4*E8+0.35*F8+0.25*G8) -> 73.784779 | D8: =RANK(C8,$C$2:$C$53) -> 7 | E8: ='Wage Dimension'!C9 -> 75.086948 | F8: ='Worker Protection Dimension'!C10 -> 67.857143 | G8: ='Right to Organize'!C11 -> 80
A9: Delaware | B9: DE | C9: =(0.4*E9+0.35*F9+0.25*G9) -> 54.053356 | D9: =RANK(C9,$C$2:$C$53) -> 21 | E9: ='Wage Dimension'!C10 -> 44.508391 | F9: ='Worker Protection Dimension'!C11 -> 35.714286 | G9: ='Right to Organize'!C12 -> 95
A10: District of Columbia | B10: DC | C10: =(0.4*E10+0.35*F10+0.25*G10) -> 81.63126 | D10: =RANK(C10,$C$2:$C$53) -> 3 | E10: ='Wage Dimension'!C11 -> 86.369816 | F10: ='Worker Protection Dimension'!C12 -> 63.095238 | G10: ='Right to Organize'!C13 -> 100
A11: Florida | B11: FL | C11: =(0.4*E11+0.35*F11+0.25*G11) -> 40.85847 | D11: =RANK(C11,$C$2:$C$53) -> 30 | E11: ='Wage Dimension'!C12 -> 38.604509 | F11: ='Worker Protection Dimension'!C13 -> 29.761905 | G11: ='Right to Organize'!C14 -> 60
A12: Georgia | B12: GA | C12: =(0.4*E12+0.35*F12+0.25*G12) -> 11.565391 | D12: =RANK(C12,$C$2:$C$53) -> 50 | E12: ='Wage Dimension'!C13 -> 12.24681 | F12: ='Worker Protection Dimension'!C14 -> 19.047619 | G12: ='Right to Organize'!C15 -> 0
A13: Hawaii | B13: HI | C13: =(0.4*E13+0.35*F13+0.25*G13) -> 62.657873 | D13: =RANK(C13,$C$2:$C$53) -> 15 | E13: ='Wage Dimension'!C14 -> 56.644683 | F13: ='Worker Protection Dimension'!C15 -> 50 | G13: ='Right to Organize'!C16 -> 90
... A53: Wyoming | B53: WY | C53: =(0.4*E53+0.35*F53+0.25*G53) -> 28.693756 | D53: =RANK(C53,$C$2:$C$53) -> 35 | E53: ='Wage Dimension'!C54 -> 23.817724 | F53: ='Worker Protection Dimension'!C55 -> 26.190476 | G53: ='Right to Organize'!C56 -> 40
A55: Maximum Score | B55: - | C55: =MAX(C2:C53) -> 86.006251 | D55: - | E55: =MAX(E2:E53) -> 86.369816 | F55: =MAX(F2:F53) -> 92.857143 | G55: =MAX(G2:G53) -> 100
A56: Minimum Score | B56: - | C56: =MIN(C2:C53) -> 7.5727277 | D56: - | E56: =MIN(E2:E53) -> 5.3901527 | F56: =MIN(F2:F53) -> 7.1428571 | G56: =MIN(G2:G53) -> 0
A57: Average Score | B57: - | C57: =AVERAGE(C2:C53) -> 45.394446 | D57: - | E57: =AVERAGE(E2:E53) -> 41.591083 | F57: =AVERAGE(F2:F53) -> 40.682234 | G57: =AVERAGE(G2:G53) -> 58.076923

Sheet Wage Dimension
A1: State | B1: Abbrev. | C1: Wage Dimension Score | D1: Wage Dimension Ranking | E1: 1. Ratio of Minimum Wage to Cost of Living | I1: 2. Ratio of Tipped Minimum Wage | L1: 3. Local Control of Minimum Wage | N1: 4. Min. Wage for Farm Workers Indicator | P1: 5. Ratio of UI Benefit to Cost of Living
E2: MIT Living Wage 2023 | F2: Minimum Wage 2023 | G2: Wage Ratio | H2: Wage Ratio Indicator Score | I2: Minimum Tipped Cash Wage 2023 | J2: Tip Wage Ratio | K2: Tip Wage Ratio Indicator Score | L2: Local Control of Min. Wage (1=Yes) | M2: Local Control of Min. Wage Indicator Score | N2: Covered by Min. Wage (1=Full Coverage) | O2: Covered by Min. Wage Indicator Score | P2: Working Family Weekly UI Benefit | Q2: UI to MIT Living Wage Ratio | R2: UI Ratio with CARES | S2: UI Ratio Indicator Score
A3: Alabama | B3: AL | C3: =(15*H3+5*K3+5*M3+5*O3+10*S3)/40 -> 7.7569421 | D3: =RANK(C3, $C$3:$C$54) -> 50 | E3: 37.05 | F3: 7.25 | G3: =F3/E3 -> 0.19568151 | H3: =100*(G3-$G$57)/($G$56-$G$57) -> 7.3027717 | I3: 2.13 | J3: =I3/F3 -> 0.2937931 | K3: =100*(J3-$J$57)/($J$56-$J$57) -> 14.138979 | L3: 0 | M3: =L3*100 -> 0 | N3: 0 | O3: =N3*100 -> 0 | P3: 145 | Q3: =P3/(E3*40) -> 0.097840756 | R3: 0.12067244 | S3: =100*(Q3-$Q$57)/($Q$56-$Q$57) -> 13.004121
A4: Alaska | B4: AK | C4: =(15*H4+5*K4+5*M4+5*O4+10*S4)/40 -> 60.933031 | D4: =RANK(C4, $C$3:$C$54) -> 16 | E4: 39.26 | F4: 10.85 | G4: =F4/E4 -> 0.27636271 | H4: =100*(G4-$G$57)/($G$56-$G$57) -> 46.416495 | I4: 10.85 | J4: =I4/F4 -> 1 | K4: =100*(J4-$J$57)/($J$56-$J$57) -> 100 | L4: 1 | M4: =L4*100 -> 100 | N4: 0 | O4: =N4*100 -> 0 | P4: 232.2048 | Q4: =P4/(E4*40) -> 0.14786347 | R4: 0.19074921 | S4: =100*(Q4-$Q$57)/($Q$56-$Q$57) -> 74.107381
A5: Arizona | B5: AZ | C5: =(15*H5+5*K5+5*M5+5*O5+10*S5)/40 -> 72.218745 | D5: =RANK(C5, $C$3:$C$54) -> 7 | E5: 40.35 | F5: 13.85 | G5: =F5/E5 -> 0.34324659 | H5: =100*(G5-$G$57)/($G$56-$G$57) -> 78.841369 | I5: 10.85 | J5: =I5/F5 -> 0.7833935 | K5: =100*(J5-$J$57)/($J$56-$J$57) -> 73.664863 | L5: 1 | M5: =L5*100 -> 100 | N5: 0.5 | O5: =N5*100 -> 50 | P5: 218.4 | Q5: =P5/(E5*40) -> 0.13531599 | R5: 0.18507094 | S5: =100*(Q5-$Q$57)/($Q$56-$Q$57) -> 58.780495
A6: Arkansas | B6: AR | C6: =(15*H6+5*K6+5*M6+5*O6+10*S6)/40 -> 38.716955 | D6: =RANK(C6, $C$3:$C$54) -> 28 | E6: 36.24 | F6: 11 | G6: =F6/E6 -> 0.30353201 | H6: =100*(G6-$G$57)/($G$56-$G$57) -> 59.587996 | I6: 2.63 | J6: =I6/F6 -> 0.23909091 | K6: =100*(J6-$J$57)/($J$56-$J$57) -> 7.4882564 | L6: 0 | M6: =L6*100 -> 0 | N6: 0.5 | O6: =N6*100 -> 50 | P6: 170 | Q6: =P6/(E6*40) -> 0.11727373 | R6: 0.17828201 | S6: =100*(Q6-$Q$57)/($Q$56-$Q$57) -> 36.741698
A7: California | B7: CA | C7: =(15*H7+5*K7+5*M7+5*O7+10*S7)/40 -> 77.515628 | D7: =RANK(C7, $C$3:$C$54) -> 3 | E7: 45.21 | F7: 15.5 | G7: =F7/E7 -> 0.3428445 | H7: =100*(G7-$G$57)/($G$56-$G$57) -> 78.646439 | I7: 15.5 | J7: =I7/F7 -> 1 | K7: =100*(J7-$J$57)/($J$56-$J$57) -> 100 | L7: 1 | M7: =L7*100 -> 100 | N7: 1 | O7: =N7*100 -> 100 | P7: 220 | Q7: =P7/(E7*40) -> 0.1216545 | R7: 0.34288513 | S7: =100*(Q7-$Q$57)/($Q$56-$Q$57) -> 42.092853
A8: Colorado | B8: CO | C8: =(15*H8+5*K8+5*M8+5*O8+10*S8)/40 -> 70.95673 | D8: =RANK(C8, $C$3:$C$54) -> 8 | E8: 42.43 | F8: 13.65 | G8: =F8/E8 -> 0.32170634 | H8: =100*(G8-$G$57)/($G$56-$G$57) -> 68.398794 | I8: 10.63 | J8: =I8/F8 -> 0.77875458 | K8: =100*(J8-$J$57)/($J$56-$J$57) -> 73.100861 | L8: 1 | M8: =L8*100 -> 100 | N8: 0.5 | O8: =N8*100 -> 50 | P8: 244.8 | Q8: =P8/(E8*40) -> 0.14423757 | R8: 0.39095592 | S8: =100*(Q8-$Q$57)/($Q$56-$Q$57) -> 69.678299
A9: Connecticut | B9: CT | C9: =(15*H9+5*K9+5*M9+5*O9+10*S9)/40 -> 75.086948 | D9: =RANK(C9, $C$3:$C$54) -> 5 | E9: 40.15 | F9: 15 | G9: =F9/E9 -> 0.373599 | H9: =100*(G9-$G$57)/($G$56-$G$57) -> 93.556022 | I9: 6.38 | J9: =I9/F9 -> 0.42533333 | K9: =100*(J9-$J$57)/($J$56-$J$57) -> 30.131712 | L9: 1 | M9: =L9*100 -> 100 | N9: 0.5 | O9: =N9*100 -> 50 | P9: 232 | Q9: =P9/(E9*40) -> 0.14445828 | R9: 0.41752124 | S9: =100*(Q9-$Q$57)/($Q$56-$Q$57) -> 69.947903
A10: Delaware | B10: DE | C10: =(15*H10+5*K10+5*M10+5*O10+10*S10)/40 -> 44.508391 | D10: =RANK(C10, $C$3:$C$54) -> 23 | E10: 39 | F10: 11.75 | G10: =F10/E10 -> 0.30128205 | H10: =100*(G10-$G$57)/($G$56-$G$57) -> 58.497231 | I10: 2.23 | J10: =I10/F10 -> 0.18978723 | K10: =100*(J10-$J$57)/($J$56-$J$57) -> 1.4938886 | L10: 1 | M10: =L10*100 -> 100 | N10: 0 | O10: =N10*100 -> 0 | P10: 186.52174 | Q10: =P10/(E10*40) -> 0.11956522 | R10: 0.37601952 | S10: =100*(Q10-$Q$57)/($Q$56-$Q$57) -> 39.540772
A11: District of Columbia | B11: DC | C11: =(15*H11+5*K11+5*M11+5*O11+10*S11)/40 -> 86.369816 | D11: =RANK(C11, $C$3:$C$54) -> 1 | E11: 43.94 | F11: 17 | G11: =F11/E11 -> 0.38689122 | H11: =100*(G11-$G$57)/($G$56-$G$57) -> 100 | I11: 8 | J11: =I11/F11 -> 0.47058824 | K11: =100*(J11-$J$57)/($J$56-$J$57) -> 35.633828 | L11: 1 | M11: =L11*100 -> 100 | N11: 1 | O11: =N11*100 -> 100 | P11: 265 | Q11: =P11/(E11*40) -> 0.15077378 | R11: 0.39241164 | S11: =100*(Q11-$Q$57)/($Q$56-$Q$57) -> 77.662352
A12: Florida | B12: FL | C12: =(15*H12+5*K12+5*M12+5*O12+10*S12)/40 -> 38.604509 | D12: =RANK(C12, $C$3:$C$54) -> 29 | E12: 39.04 | F12: 11 | G12: =F12/E12 -> 0.2817623 | H12: =100*(G12-$G$57)/($G$56-$G$57) -> 49.034179 | I12: 7.98 | J12: =I12/F12 -> 0.72545455 | K12: =100*(J12-$J$57)/($J$56-$J$57) -> 66.620613 | L12: 0 | M12: =L12*100 -> 0 | N12: 0.5 | O12: =N12*100 -> 50 | P12: 165 | Q12: =P12/(E12*40) -> 0.10566086 | R12: 0.13398389 | S12: =100*(Q12-$Q$57)/($Q$56-$Q$57) -> 22.556459
A13: Georgia | B13: GA | C13: =(15*H13+5*K13+5*M13+5*O13+10*S13)/40 -> 12.24681 | D13: =RANK(C13, $C$3:$C$54) -> 43 | E13: 38.44 | F13: 7.25 | G13: =F13/E13 -> 0.18860562 | H13: =100*(G13-$G$57)/($G$56-$G$57) -> 3.8724249 | I13: 2.13 | J13: =I13/F13 -> 0.2937931 | K13: =100*(J13-$J$57)/($J$56-$J$57) -> 14.138979 | L13: 0 | M13: =L13*100 -> 0 | N13: 0 | O13: =N13*100 -> 0 | P13: 179.52381 | Q13: =P13/(E13*40) -> 0.11675586 | R13: 0.1392521 | S13: =100*(Q13-$Q$57)/($Q$56-$Q$57) -> 36.109113
A14: Hawaii | B14: HI | C14: =(15*H14+5*K14+5*M14+5*O14+10*S14)/40 -> 56.644683 | D14: =RANK(C14, $C$3:$C$54) -> 19 | E14: 47.5 | F14: 12 | G14: =F14/E14 -> 0.25263158 | H14: =100*(G14-$G$57)/($G$56-$G$57) -> 34.911796 | I14: 11 | J14: =I14/F14 -> 0.91666667 | K14: =100*(J14-$J$57)/($J$56-$J$57) -> 89.868288 | L14: 1 | M14: =L14*100 -> 100 | N14: 0.5 | O14: =N14*100 -> 50 | P14: 250.09524 | Q14: =P14/(E14*40) -> 0.13162907 | R14: 0.34040547 | S14: =100*(Q14-$Q$57)/($Q$56-$Q$57) -> 54.276894
... A54: Wyoming | B54: WY | C54: =(15*H54+5*K54+5*M54+5*O54+10*S54)/40 -> 23.817724 | D54: =RANK(C54, $C$3:$C$54) -> 35 | E54: 35.78 | F54: 7.25 | G54: =F54/E54 -> 0.20262717 | H54: =100*(G54-$G$57)/($G$56-$G$57) -> 10.66998 | I54: 2.13 | J54: =I54/F54 -> 0.2937931 | K54: =100*(J54-$J$57)/($J$56-$J$57) -> 14.138979 | L54: 1 | M54: =L54*100 -> 100 | N54: 0 | O54: =N54*100 -> 0 | P54: 150.8 | Q54: =P54/(E54*40) -> 0.10536613 | R54: 0.12766678 | S54: =100*(Q54-$Q$57)/($Q$56-$Q$57) -> 22.196438
E55: SOURCE | F55: SOURCE | I55: SOURCE | L55: SOURCE | N55: SOURCE | P55: SOURCE | R55: SOURCE
A56: Maximum Indicator Performance | B56: - | C56: =MAX(C3:C54) -> 86.369816 | D56: - | E56: =MAX(E3:E54) -> 47.5 | F56: =MAX(F3:F54) -> 17 | G56: =MAX(G3:G54) -> 0.38689122 | H56: =MAX(H3:H54) -> 100 | I56: =MAX(I3:I54) -> 15.74 | J56: =MAX(J3:J54) -> 1 | K56: =MAX(K3:K54) -> 100 | L56: =MAX(L3:L54) -> 1 | ... S56: =MAX(S3:S54) -> 100
A57: Minimum Indicator Performance | B57: - | C57: =MIN(C3:C54) -> 5.3901527 | D57: - | E57: =MIN(E3:E54) -> 32.66 | F57: =MIN(F3:F54) -> 7.25 | G57: =MIN(G3:G54) -> 0.18061784 | H57: =MIN(H3:H54) -> 0 | I57: =MIN(I3:I54) -> 2.13 | J57: =MIN(J3:J54) -> 0.1775 | K57: =MIN(K3:K54) -> 0 | L57: =MIN(L3:L54) -> 0 | ... S57: =MIN(S3:S54) -> 0

Sheet Worker Protection Dimension
A1: State | B1: Abbrev. | C1: Worker Protection Dimension Score | D1: Worker Protection Dimension Ranking | E1: 1. Paid Pumping Break | G1: 2. Equal Pay Indicator | K1: 3. Paid Leave Indicator | N1: 4. Scheduling | S1: 5. Sexual Harassment | U1: 6. Excluded Workers | X1: 7. Heat Standard | Z1: 8. Child Labor Protections
E2: 1. States provide paid pumping break (1=Yes) | F2: Paid Pumping Indcator Score | G2: 2.1. Basic Equal Pay (1=Yes) | H2: 2.2. No Pay Secrecy (1=Yes) | I2: 2.3. No Private Sector Salary History (1=Yes) | J2: Equal Pay Indicator Score | K2: 3.1. Family Leave in Place (1=Yes) | L2: 3.2. Sick Leave in Place (1=Yes) | M2: Paid Leave Indicator Score | N2: 4.1. Flexible Scheduling | O2: 4.2. Reporting Pay | P2: 4.3. Split Shift Pay | Q2: 4.4. Advanced Shift Notice | R2: Scheduling Indicator Score | S2: Sexual Harassment in the Law | T2: Sexual Harassment Indicator Score | U2: 6.1 Farm Worker's Compensation (1=Full Coverage) | V2: 6.2 Domestic Worker Protections (1=Yes) | W2: Excluded Workers Indicator Score | X2: Heat Standard (1=Yes) | Y2: Heat Standard Indicator Score | Z2: Child Labor Protections 1 = Yes | AA2: Child Labor Protection Score
A4: Alabama | B4: AL | C4: =(0.5*F4+J4+M4+R4+T4+W4+Y4+0.5*AA4)/7 -> 21.428571 | D4: =RANK(C4, $C$4:$C$55) -> 48 | E4: 0 | F4: =E4*100 -> 0 | G4: 1 | H4: 1 | I4: 1 | J4: =(G4+H4+I4)/3*100 -> 100 | K4: 0 | L4: 0 | M4: =(K4+L4)/2*100 -> 0 | N4: 0 | O4: 0 | P4: 0 | Q4: 0 | R4: =(N4+O4+P4+Q4)/4*100 -> 0 | S4: 0 | T4: =S4*100 -> 0 | U4: 0 | V4: 0 | W4: =(U4+V4)/2*100 -> 0 | X4: 0 | Y4: =X4*100 -> 0 | Z4: 1 | AA4: =Z4*100 -> 100
A5: Alaska | B5: AK | C5: =(0.5*F5+J5+M5+R5+T5+W5+Y5+0.5*AA5)/7 -> 29.761905 | D5: =RANK(C5, $C$4:$C$55) -> 30 | E5: 0 | F5: =E5*100 -> 0 | G5: 1 | H5: 0 | I5: 0 | J5: =(G5+H5+I5)/3*100 -> 33.333333 | K5: 0 | L5: 0 | M5: =(K5+L5)/2*100 -> 0 | N5: 0 | O5: 0 | P5: 0 | Q5: 0 | R5: =(N5+O5+P5+Q5)/4*100 -> 0 | S5: 1 | T5: =S5*100 -> 100 | U5: 0.5 | V5: 0 | W5: =(U5+V5)/2*100 -> 25 | X5: 0 | Y5: =X5*100 -> 0 | Z5: 1 | AA5: =Z5*100 -> 100
A6: Arizona | B6: AZ | C6: =(0.5*F6+J6+M6+R6+T6+W6+Y6+0.5*AA6)/7 -> 40.47619 | D6: =RANK(C6, $C$4:$C$55) -> 21 | E6: 0 | F6: =E6*100 -> 0 | G6: 1 | H6: 0 | I6: 0 | J6: =(G6+H6+I6)/3*100 -> 33.333333 | K6: 0 | L6: 1 | M6: =(K6+L6)/2*100 -> 50 | N6: 0 | O6: 0 | P6: 0 | Q6: 0 | R6: =(N6+O6+P6+Q6)/4*100 -> 0 | S6: 1 | T6: =S6*100 -> 100 | U6: 1 | V6: 0 | W6: =(U6+V6)/2*100 -> 50 | X6: 0 | Y6: =X6*100 -> 0 | Z6: 1 | AA6: =Z6*100 -> 100
A7: Arkansas | B7: AR | C7: =(0.5*F7+J7+M7+R7+T7+W7+Y7+0.5*AA7)/7 -> 19.047619 | D7: =RANK(C7, $C$4:$C$55) -> 49 | E7: 0 | F7: =E7*100 -> 0 | G7: 1 | H7: 0 | I7: 0 | J7: =(G7+H7+I7)/3*100 -> 33.333333 | K7: 0 | L7: 0 | M7: =(K7+L7)/2*100 -> 0 | N7: 0 | O7: 0 | P7: 0 | Q7: 0 | R7: =(N7+O7+P7+Q7)/4*100 -> 0 | S7: 1 | T7: =S7*100 -> 100 | U7: 0 | V7: 0 | W7: =(U7+V7)/2*100 -> 0 | X7: 0 | Y7: =X7*100 -> 0 | Z7: 0 | AA7: =Z7*100 -> 0
A8: California | B8: CA | C8: =(0.5*F8+J8+M8+R8+T8+W8+Y8+0.5*AA8)/7 -> 85.714286 | D8: =RANK(C8, $C$4:$C$55) -> 2 | E8: 0 | F8: =E8*100 -> 0 | G8: 1 | H8: 1 | I8: 1 | J8: =(G8+H8+I8)/3*100 -> 100 | K8: 1 | L8: 1 | M8: =(K8+L8)/2*100 -> 100 | N8: 0 | O8: 1 | P8: 1 | Q8: 0 | R8: =(N8+O8+P8+Q8)/4*100 -> 50 | S8: 1 | T8: =S8*100 -> 100 | U8: 1 | V8: 1 | W8: =(U8+V8)/2*100 -> 100 | X8: 1 | Y8: =X8*100 -> 100 | Z8: 1 | AA8: =Z8*100 -> 100
A9: Colorado | B9: CO | C9: =(0.5*F9+J9+M9+R9+T9+W9+Y9+0.5*AA9)/7 -> 60.714286 | D9: =RANK(C9, $C$4:$C$55) -> 9 | E9: 0 | F9: =E9*100 -> 0 | G9: 1 | H9: 1 | I9: 1 | J9: =(G9+H9+I9)/3*100 -> 100 | K9: 0.5 | L9: 1 | M9: =(K9+L9)/2*100 -> 75 | N9: 0 | O9: 0 | P9: 0 | Q9: 0 | R9: =(N9+O9+P9+Q9)/4*100 -> 0 | S9: 1 | T9: =S9*100 -> 100 | U9: 1 | V9: 0 | W9: =(U9+V9)/2*100 -> 50 | X9: 0.5 | Y9: =X9*100 -> 50 | Z9: 1 | AA9: =Z9*100 -> 100
A10: Connecticut | B10: CT | C10: =(0.5*F10+J10+M10+R10+T10+W10+Y10+0.5*AA10)/7 -> 67.857143 | D10: =RANK(C10, $C$4:$C$55) -> 5 | E10: 0 | F10: =E10*100 -> 0 | G10: 1 | H10: 1 | I10: 1 | J10: =(G10+H10+I10)/3*100 -> 100 | K10: 1 | L10: 1 | M10: =(K10+L10)/2*100 -> 100 | N10: 0 | O10: 1 | P10: 0 | Q10: 0 | R10: =(N10+O10+P10+Q10)/4*100 -> 25 | S10: 1 | T10: =S10*100 -> 100 | U10: 1 | V10: 1 | W10: =(U10+V10)/2*100 -> 100 | X10: 0 | Y10: =X10*100 -> 0 | Z10: 1 | AA10: =Z10*100 -> 100
A11: Delaware | B11: DE | C11: =(0.5*F11+J11+M11+R11+T11+W11+Y11+0.5*AA11)/7 -> 35.714286 | D11: =RANK(C11, $C$4:$C$55) -> 24 | E11: 0 | F11: =E11*100 -> 0 | G11: 1 | H11: 1 | I11: 1 | J11: =(G11+H11+I11)/3*100 -> 100 | K11: 0 | L11: 0 | M11: =(K11+L11)/2*100 -> 0 | N11: 0 | O11: 0 | P11: 0 | Q11: 0 | R11: =(N11+O11+P11+Q11)/4*100 -> 0 | S11: 1 | T11: =S11*100 -> 100 | U11: 0 | V11: 0 | W11: =(U11+V11)/2*100 -> 0 | X11: 0 | Y11: =X11*100 -> 0 | Z11: 1 | AA11: =Z11*100 -> 100
A12: District of Columbia | B12: DC | C12: =(0.5*F12+J12+M12+R12+T12+W12+Y12+0.5*AA12)/7 -> 63.095238 | D12: =RANK(C12, $C$4:$C$55) -> 8 | E12: 0 | F12: =E12*100 -> 0 | G12: 1 | H12: 1 | I12: 0 | J12: =(G12+H12+I12)/3*100 -> 66.666667 | K12: 1 | L12: 1 | M12: =(K12+L12)/2*100 -> 100 | N12: 0 | O12: 1 | P12: 1 | Q12: 1 | R12: =(N12+O12+P12+Q12)/4*100 -> 75 | S12: 1 | T12: =S12*100 -> 100 | U12: 1 | V12: 0 | W12: =(U12+V12)/2*100 -> 50 | X12: 0 | Y12: =X12*100 -> 0 | Z12: 1 | AA12: =Z12*100 -> 100
A13: Florida | B13: FL | C13: =(0.5*F13+J13+M13+R13+T13+W13+Y13+0.5*AA13)/7 -> 29.761905 | D13: =RANK(C13, $C$4:$C$55) -> 30 | E13: 0 | F13: =E13*100 -> 0 | G13: 1 | H13: 0 | I13: 0 | J13: =(G13+H13+I13)/3*100 -> 33.333333 | K13: 0 | L13: 0 | M13: =(K13+L13)/2*100 -> 0 | N13: 0 | O13: 0 | P13: 0 | Q13: 0 | R13: =(N13+O13+P13+Q13)/4*100 -> 0 | S13: 1 | T13: =S13*100 -> 100 | U13: 0.5 | V13: 0 | W13: =(U13+V13)/2*100 -> 25 | X13: 0 | Y13: =X13*100 -> 0 | Z13: 1 | AA13: =Z13*100 -> 100
A14: Georgia | B14: GA | C14: =(0.5*F14+J14+M14+R14+T14+W14+Y14+0.5*AA14)/7 -> 19.047619 | D14: =RANK(C14, $C$4:$C$55) -> 49 | E14: 1 | F14: =E14*100 -> 100 | G14: 1 | H14: 0 | I14: 0 | J14: =(G14+H14+I14)/3*100 -> 33.333333 | K14: 0 | L14: 0 | M14: =(K14+L14)/2*100 -> 0 | N14: 0 | O14: 0 | P14: 0 | Q14: 0 | R14: =(N14+O14+P14+Q14)/4*100 -> 0 | S14: 0 | T14: =S14*100 -> 0 | U14: 0 | V14: 0 | W14: =(U14+V14)/2*100 -> 0 | X14: 0 | Y14: =X14*100 -> 0 | Z14: 1 | AA14: =Z14*100 -> 100
A15: Hawaii | B15: HI | C15: =(0.5*F15+J15+M15+R15+T15+W15+Y15+0.5*AA15)/7 -> 50 | D15: =RANK(C15, $C$4:$C$55) -> 14 | E15: 0 | F15: =E15*100 -> 0 | G15: 1 | H15: 1 | I15: 1 | J15: =(G15+H15+I15)/3*100 -> 100 | K15: 0 | L15: 0 | M15: =(K15+L15)/2*100 -> 0 | N15: 0 | O15: 0 | P15: 0 | Q15: 0 | R15: =(N15+O15+P15+Q15)/4*100 -> 0 | S15: 1 | T15: =S15*100 -> 100 | U15: 1 | V15: 1 | W15: =(U15+V15)/2*100 -> 100 | X15: 0 | Y15: =X15*100 -> 0 | Z15: 1 | AA15: =Z15*100 -> 100
... A55: Wyoming | B55: WY | C55: =(0.5*F55+J55+M55+R55+T55+W55+Y55+0.5*AA55)/7 -> 26.190476 | D55: =RANK(C55, $C$4:$C$55) -> 39 | E55: 0 | F55: =E55*100 -> 0 | G55: 1 | H55: 0 | I55: 0 | J55: =(G55+H55+I55)/3*100 -> 33.333333 | K55: 0 | L55: 0 | M55: =(K55+L55)/2*100 -> 0 | N55: 0 | O55: 0 | P55: 0 | Q55: 0 | R55: =(N55+O55+P55+Q55)/4*100 -> 0 | S55: 1 | T55: =S55*100 -> 100 | U55: 0 | V55: 0 | W55: =(U55+V55)/2*100 -> 0 | X55: 0 | Y55: =X55*100 -> 0 | Z55: 1 | AA55: =Z55*100 -> 100
E56: SOURCE | G56: SOURCE | H56: SOURCE | I56: SOURCE | K56: SOURCE | L56: SOURCE | N56: SOURCE | O56: SOURCE | P56: SOURCE | Q56: SOURCE | S56: EXTERNAL | T56: ANOTHER | U56: SOURCE | V56: SOURCE | X56: SOURCE | Y56: ANOTHER | Z56: SOURCE
A57: Maximum Indicator Performance | B57: - | C57: =MAX(C4:C55) -> 92.857143 | D57: - | E57: =MAX(E4:E55) -> 1 | F57: =MAX(F4:F55) -> 100 | G57: =MAX(G4:G55) -> 1 | H57: =MAX(H4:H55) -> 1 | I57: =MAX(I4:I55) -> 1 | J57: =MAX(J4:J55) -> 100 | K57: =MAX(K4:K55) -> 1 | L57: =MAX(L4:L55) -> 1 | ... S57: =MAX(S4:S55) -> 1 | T57: =MAX(T4:T56) -> 100 | U57: =MAX(U4:U55) -> 1 | V57: =MAX(V4:V56) -> 1 | W57: =MAX(W4:W55) -> 100 | X57: =MAX(X4:X56) -> 1 | Y57: =MAX(Y4:Y55) -> 100 | Z57: 1 | AA57: 100
A58: Minimum Indicator Performance | B58: - | C58: =MIN(C4:C55) -> 7.1428571 | D58: - | E58: =MIN(E4:E55) -> 0 | F58: =MIN(F4:F55) -> 0 | G58: =MIN(G4:G55) -> 0 | H58: =MIN(H4:H55) -> 0 | I58: =MIN(I4:I55) -> 0 | J58: =MIN(J4:J55) -> 0 | K58: =MIN(K4:K55) -> 0 | L58: =MIN(L4:L55) -> 0 | ... Y58: =MIN(Y4:Y55) -> 0 | Z58: 0 | AA58: 0

Sheet Right to Organize
A1: State | B1: Abbrev. | C1: Right to Organize Dimension Score | D1: Right to Organize Dimension Ranking | E1: 1. Right to Work Indicator | G1: 2. Right to Organize for Teachers Indicator | J1: 3. Project Labor Agreement | L1: 4. Protection Against Retaliation | N1: 5. Collective Bargaining
E2: Status Quo: Right to Work Law(1=No) | F2: Right to Work Indicator Score | G2: 2.1 Collective Bargaining | H2: 2.2 Wage Negotiation | I2: Right to Organize for Teachers Indicator Score | J2: PLAs Allowed Locally (1=Yes) | K2: Project Labor Agreement Indicator Score | L2: Protections From Retaliation (1=Full) | M2: Protections From Retaliation Indicator Score | N2: Collective Bargaining (1=Required) | O2: Collective Bargaining Indicator Score
A5: Alabama | B5: AL | C5: =(F5+I5+K5+M5+O5)/5 -> 10 | D5: =RANK(C5, $C$5:$C$56) -> 47 | E5: 0 | F5: =E5*100 -> 0 | G5: 0 | H5: 0 | I5: =(G5+H5)/2*100 -> 0 | J5: 0 | K5: =J5*100 -> 0 | L5: 0 | M5: =L5*100 -> 0 | N5: 0.5 | O5: =N5*100 -> 50
A6: Alaska | B6: AK | C6: =(F6+I6+K6+M6+O6)/5 -> 50 | D6: =RANK(C6, $C$5:$C$56) -> 31 | E6: 1 | F6: =E6*100 -> 100 | G6: 1 | H6: 1 | I6: =(G6+H6)/2*100 -> 100 | J6: 0 | K6: =J6*100 -> 0 | L6: 0 | M6: =L6*100 -> 0 | N6: 0.5 | O6: =N6*100 -> 50
A7: Arizona | B7: AZ | C7: =(F7+I7+K7+M7+O7)/5 -> 60 | D7: =RANK(C7, $C$5:$C$56) -> 26 | E7: 0 | F7: =E7*100 -> 0 | G7: 1 | H7: 0 | I7: =(G7+H7)/2*100 -> 50 | J7: 1 | K7: =J7*100 -> 100 | L7: 1 | M7: =L7*100 -> 100 | N7: 0.5 | O7: =N7*100 -> 50
A8: Arkansas | B8: AR | C8: =(F8+I8+K8+M8+O8)/5 -> 10 | D8: =RANK(C8, $C$5:$C$56) -> 47 | E8: 0 | F8: =E8*100 -> 0 | G8: 1 | H8: 0 | I8: =(G8+H8)/2*100 -> 50 | J8: 0 | K8: =J8*100 -> 0 | L8: 0 | M8: =L8*100 -> 0 | N8: 0 | O8: =N8*100 -> 0
A9: California | B9: CA | C9: =(F9+I9+K9+M9+O9)/5 -> 100 | D9: =RANK(C9, $C$5:$C$56) -> 1 | E9: 1 | F9: =E9*100 -> 100 | G9: 1 | H9: 1 | I9: =(G9+H9)/2*100 -> 100 | J9: 1 | K9: =J9*100 -> 100 | L9: 1 | M9: =L9*100 -> 100 | N9: 1 | O9: =N9*100 -> 100
A10: Colorado | B10: CO | C10: =(F10+I10+K10+M10+O10)/5 -> 90 | D10: =RANK(C10, $C$5:$C$56) -> 8 | E10: 1 | F10: =E10*100 -> 100 | G10: 1 | H10: 1 | I10: =(G10+H10)/2*100 -> 100 | J10: 1 | K10: =J10*100 -> 100 | L10: 0.5 | M10: =L10*100 -> 50 | N10: 1 | O10: =N10*100 -> 100
A11: Connecticut | B11: CT | C11: =(F11+I11+K11+M11+O11)/5 -> 80 | D11: =RANK(C11, $C$5:$C$56) -> 14 | E11: 1 | F11: =E11*100 -> 100 | G11: 1 | H11: 1 | I11: =(G11+H11)/2*100 -> 100 | J11: 1 | K11: =J11*100 -> 100 | L11: 0 | M11: =L11*100 -> 0 | N11: 1 | O11: =N11*100 -> 100
A12: Delaware | B12: DE | C12: =(F12+I12+K12+M12+O12)/5 -> 95 | D12: =RANK(C12, $C$5:$C$56) -> 5 | E12: 1 | F12: =E12*100 -> 100 | G12: 1 | H12: 1 | I12: =(G12+H12)/2*100 -> 100 | J12: 1 | K12: =J12*100 -> 100 | L12: 0.75 | M12: =L12*100 -> 75 | N12: 1 | O12: =N12*100 -> 100
A13: District of Columbia | B13: DC | C13: =(F13+I13+K13+M13+O13)/5 -> 100 | D13: =RANK(C13, $C$5:$C$56) -> 1 | E13: 1 | F13: =E13*100 -> 100 | G13: 1 | H13: 1 | I13: =(G13+H13)/2*100 -> 100 | J13: 1 | K13: =J13*100 -> 100 | L13: 1 | M13: =L13*100 -> 100 | N13: 1 | O13: =N13*100 -> 100
A14: Florida | B14: FL | C14: =(F14+I14+K14+M14+O14)/5 -> 60 | D14: =RANK(C14, $C$5:$C$56) -> 26 | E14: 0 | F14: =E14*100 -> 0 | G14: 1 | H14: 1 | I14: =(G14+H14)/2*100 -> 100 | J14: 0 | K14: =J14*100 -> 0 | L14: 1 | M14: =L14*100 -> 100 | N14: 1 | O14: =N14*100 -> 100
A15: Georgia | B15: GA | C15: =(F15+I15+K15+M15+O15)/5 -> 0 | D15: =RANK(C15, $C$5:$C$56) -> 49 | E15: 0 | F15: =E15*100 -> 0 | G15: 0 | H15: 0 | I15: =(G15+H15)/2*100 -> 0 | J15: 0 | K15: =J15*100 -> 0 | L15: 0 | M15: =L15*100 -> 0 | N15: 0 | O15: =N15*100 -> 0
A16: Hawaii | B16: HI | C16: =(F16+I16+K16+M16+O16)/5 -> 90 | D16: =RANK(C16, $C$5:$C$56) -> 8 | E16: 1 | F16: =E16*100 -> 100 | G16: 1 | H16: 1 | I16: =(G16+H16)/2*100 -> 100 | J16: 1 | K16: =J16*100 -> 100 | L16: 0.5 | M16: =L16*100 -> 50 | N16: 1 | O16: =N16*100 -> 100
... A56: Wyoming | B56: WY | C56: =(F56+I56+K56+M56+O56)/5 -> 40 | D56: =RANK(C56, $C$5:$C$56) -> 33 | E56: 0 | F56: =E56*100 -> 0 | G56: 1 | H56: 0 | I56: =(G56+H56)/2*100 -> 50 | J56: 1 | K56: =J56*100 -> 100 | L56: 0 | M56: =L56*100 -> 0 | N56: 0.5 | O56: =N56*100 -> 50
E57: SOURCE | G57: SOURCE | H57: SOURCE | J57: SOURCE | K57: ANOTHER | L57: SOURCE | M57: ANOTHER | N57: SOURCE | O57: ANOTHER
A58: Maximum Indicator Performance | B58: - | C58: =MAX(C5:C56) -> 100 | D58: - | E58: =MAX(E5:E56) -> 1 | F58: =MAX(F5:F56) -> 100 | G58: =MAX(G5:G57) -> 1 | H58: =MAX(H5:H57) -> 1 | I58: =MAX(I5:I56) -> 100 | J58: =MAX(J5:J56) -> 1 | K58: =MAX(K5:K57) -> 100 | L58: =MAX(L5:L56) -> 1 | M58: =MAX(M5:M57) -> 100 | N58: =MAX(N5:N57) -> 1 | O58: =MAX(O5:O57) -> 100
A59: Minimum Indicator Performance | B59: - | C59: =MIN(C5:C56) -> 0 | D59: - | E59: =MIN(E5:E56) -> 0 | F59: =MIN(F5:F56) -> 0 | G59: =MIN(G5:G56) -> 0 | H59: =MIN(H5:H56) -> 0 | I59: =MIN(I5:I56) -> 0 | J59: =MIN(J5:J56) -> 0 | K59: =MIN(K5:K56) -> 0 | L59: =MIN(L5:L56) -> 0 | ... O59: =MIN(O5:O56) -> 0
